BEGIN:VCALENDAR
VERSION:2.0
PRODID:-//OPEIU Local 109 - ECPv6.15.20//NONSGML v1.0//EN
CALSCALE:GREGORIAN
METHOD:PUBLISH
X-WR-CALNAME:OPEIU Local 109
X-ORIGINAL-URL:https://opeiu109.org
X-WR-CALDESC:Events for OPEIU Local 109
REFRESH-INTERVAL;VALUE=DURATION:PT1H
X-Robots-Tag:noindex
X-PUBLISHED-TTL:PT1H
BEGIN:VTIMEZONE
TZID:America/Chicago
BEGIN:DAYLIGHT
TZOFFSETFROM:-0600
TZOFFSETTO:-0500
TZNAME:CDT
DTSTART:20240310T080000
END:DAYLIGHT
BEGIN:STANDARD
TZOFFSETFROM:-0500
TZOFFSETTO:-0600
TZNAME:CST
DTSTART:20241103T070000
END:STANDARD
BEGIN:DAYLIGHT
TZOFFSETFROM:-0600
TZOFFSETTO:-0500
TZNAME:CDT
DTSTART:20250309T080000
END:DAYLIGHT
BEGIN:STANDARD
TZOFFSETFROM:-0500
TZOFFSETTO:-0600
TZNAME:CST
DTSTART:20251102T070000
END:STANDARD
BEGIN:DAYLIGHT
TZOFFSETFROM:-0600
TZOFFSETTO:-0500
TZNAME:CDT
DTSTART:20260308T080000
END:DAYLIGHT
BEGIN:STANDARD
TZOFFSETFROM:-0500
TZOFFSETTO:-0600
TZNAME:CST
DTSTART:20261101T070000
END:STANDARD
END:VTIMEZONE
BEGIN:VEVENT
DTSTART;TZID=America/Chicago:20251203T120000
DTEND;TZID=America/Chicago:20251203T150000
DTSTAMP:20260420T104644
CREATED:20251124T154211Z
LAST-MODIFIED:20251124T154557Z
UID:880-1764763200-1764774000@opeiu109.org
SUMMARY:Trusteeship Hearing
DESCRIPTION:December 3rd\, 2025\, at 12 PM (Noon) Eastern Time. \nThe video conference link will be provided.
URL:https://opeiu109.org/event/trusteeship-hearing/
END:VEVENT
END:VCALENDAR